BEGIN:VCALENDAR
VERSION:2.0
PRODID:-//VLKA - ECPv6.15.14//NONSGML v1.0//EN
CALSCALE:GREGORIAN
METHOD:PUBLISH
X-WR-CALNAME:VLKA
X-ORIGINAL-URL:https://vlkasociacija.lt
X-WR-CALDESC:VLKA renginiai
REFRESH-INTERVAL;VALUE=DURATION:PT1H
X-Robots-Tag:noindex
X-PUBLISHED-TTL:PT1H
BEGIN:VTIMEZONE
TZID:UTC
BEGIN:STANDARD
TZOFFSETFROM:+0000
TZOFFSETTO:+0000
TZNAME:UTC
DTSTART:20220101T000000
END:STANDARD
END:VTIMEZONE
BEGIN:VEVENT
DTSTART;TZID=UTC:20240530T140000
DTEND;TZID=UTC:20240530T163000
DTSTAMP:20260423T094202
CREATED:20240428T160400Z
LAST-MODIFIED:20240529T193134Z
UID:1082-1717077600-1717086600@vlkasociacija.lt
SUMMARY:Mokslinė konferencija "Aktualūs aritmijų klausimai"
DESCRIPTION:Konferencijos programa ČIA\nRegistracija\n(Konferencija skirta visų specialybių gydytojams bei bendrosios praktikos slaugytojoms.\nKonferencijos dalyviams bus suteiktas 2 val. profesinio tobulėjimo pažymėjimas.) \nRegistracija internetu baigėsi. Registracija galima konferencijos dieną nuo 13:30 val.\, atvykus į vietą.
URL:https://vlkasociacija.lt/renginys/aktualus-aritmiju-klausimai/
LOCATION:Studlendas\, H. Manto g. 90-1\, Klaipėda\, 92295\, Lietuva
ATTACH;FMTTYPE=image/png:https://vlkasociacija.lt/wp-content/uploads/2024/04/Paveikslelis2.png
END:VEVENT
BEGIN:VEVENT
DTSTART;TZID=UTC:20240305T140000
DTEND;TZID=UTC:20240305T180000
DTSTAMP:20260423T094202
CREATED:20240127T113949Z
LAST-MODIFIED:20240428T161213Z
UID:874-1709647200-1709661600@vlkasociacija.lt
SUMMARY:Mokslinė praktikinė konferencija "Širdies nepakankamumo gydymo iššūkiai ir perspektyvos"
DESCRIPTION:Konferencijos programa ČIA\nRegistracija baigės. (Registracija galima Konferencijos dieną\, vietoje)
URL:https://vlkasociacija.lt/renginys/moksline-praktikine-konferencija-sirdies-nepakankamumo-gydymo-issukiai-ir-perspektyvos/
LOCATION:Studlendas\, H. Manto g. 90-1\, Klaipėda\, 92295\, Lietuva
ATTACH;FMTTYPE=image/png:https://vlkasociacija.lt/wp-content/uploads/2024/01/Paveikslelis9.png
END:VEVENT
BEGIN:VEVENT
DTSTART;TZID=UTC:20231127T090000
DTEND;TZID=UTC:20231127T100000
DTSTAMP:20260423T094202
CREATED:20231126T124611Z
LAST-MODIFIED:20231126T124611Z
UID:237-1701075600-1701079200@vlkasociacija.lt
SUMMARY:Steigiamasis VLKA susirinkimas
DESCRIPTION:
URL:https://vlkasociacija.lt/renginys/steigiamasis-vlka-susirinkimas/
END:VEVENT
END:VCALENDAR