BEGIN:VCALENDAR
VERSION:2.0
PRODID:-//VLKA - ECPv6.15.14//NONSGML v1.0//EN
CALSCALE:GREGORIAN
METHOD:PUBLISH
X-WR-CALNAME:VLKA
X-ORIGINAL-URL:https://vlkasociacija.lt
X-WR-CALDESC:VLKA renginiai
REFRESH-INTERVAL;VALUE=DURATION:PT1H
X-Robots-Tag:noindex
X-PUBLISHED-TTL:PT1H
BEGIN:VTIMEZONE
TZID:UTC
BEGIN:STANDARD
TZOFFSETFROM:+0000
TZOFFSETTO:+0000
TZNAME:UTC
DTSTART:20240101T000000
END:STANDARD
END:VTIMEZONE
BEGIN:VEVENT
DTSTART;TZID=UTC:20251016T160000
DTEND;TZID=UTC:20251016T173000
DTSTAMP:20260422T181923
CREATED:20250921T112753Z
LAST-MODIFIED:20250921T151915Z
UID:1504-1760630400-1760635800@vlkasociacija.lt
SUMMARY:Seminaras „Širdies nepakankamumas šeimos gydytojo kasdieninėje praktikoje“
DESCRIPTION:Gerbiami šeimos gydytojai\,\n \n\n\nKviečiame dalyvauti interaktyviame seminare „Širdies nepakankamumas šeimos gydytojo kasdieninėje praktikoje““\, kuris vyks pasirinktinai dvejomis datomis: 2025 m. spalio 16 d. ir spalio 29 d. 16:00 – 17:30 val. MERCURE Klaipėda City viešbutyje\, adresu Šiaulių g. 28\, Klaipėda.\nSeminaro metu būsite suskirstyti į dvi grupes\, kurios pasikeisdamos išklausys abi svarbias seminaro temas.\n\n \n\n\nSeminaras skirtas: šeimos gydytojams (2 val. elektroniniai kvalifikacijos kėlimo pažymėjimai bus išduodami visiems konferenciją stebėjusiems dalyviams).\n\n \n\nSeminaras yra nemokamas\, tačiau BŪTINA išankstinė registracija. Seminaro dieną registracija nebus vykdoma ir bus negalima.\n\n \n\n\nSEMINARO PROGRAMA\n \n\n\nREGISTRACIJA (registruodamiesi pasirinkite Jums patogią seminaro datą)\n\n\n  \n\n\n\n\n\nSeminaras „Širdies nepakankamumas šeimos gydytojo kasdieninėje praktikoje“\n\n\n\n\n\n\n\n\n    Vardas\, Pavardė\n        *\n    \n    \n	\n		Vardas\, Pavardė	\n\n	\n					\n				\n					Vardas\, Pavardė				\n\n							\n						\n				\n					Vardas\, Pavardė				\n\n							\n				\n\n\n    \n    \n\n\n	Asmens kodas\n		*\n	\n	\n	privalomas išrašyti sertifikatą\, po renginio visi asmens duomenys ištrinami ir nėra kaupiami\n	\n\n\n	Specialybė\n		*\n	\n			\n		SpecialybėŠeimos gydytoja (-as)	\n	\n	\n	\n\n\n	Pasirinkite seminaro datą\n		*\n	\n			\n		Data2025 m. spalio 29 d. 16:00 val.	\n	\n	\n	\n\n\n    El.pašto adresas\n        *\n    \n    \n    \n    \n\n\n    Tel. numeris\n        *\n    \n    \n    \n    \n\n\n    Naujienlaiškis\n        \n    \n    					\n			 Noriu gauti naujienas apie artėjančius renginius ir kitą aktualią informaciją\n\n    \n    \n\n\n    Privatumo politika\n        *\n    \n    					\n			 Patvirtinu\, jog susipažinau su  Privatumo politika\n\n    \n    \n\n\n	\nRegistruotis\n\n\n\n\n\n	\n			\n			\n				If you are human\, leave this field blank.
URL:https://vlkasociacija.lt/renginys/seminaras-sirdies-nepakankamumas-seimos-gydytojo-kasdienineje-praktikoje/
LOCATION:Viešbutis „Mercure Klaipėda City”\, Šaulių g. 28\, Klaipėda
ATTACH;FMTTYPE=image/png:https://vlkasociacija.lt/wp-content/uploads/2025/09/Pav.png
END:VEVENT
BEGIN:VEVENT
DTSTART;TZID=UTC:20251024T140000
DTEND;TZID=UTC:20251024T190000
DTSTAMP:20260422T181923
CREATED:20250915T094529Z
LAST-MODIFIED:20251022T172223Z
UID:1467-1761314400-1761332400@vlkasociacija.lt
SUMMARY:Mokslinė konferencija „Aortos vožtuvo stenozė echokardiografijoje: iššūkiai ir sprendimai“
DESCRIPTION:PRISIJUNKITE PRIE KONFERENCIJOS ONLINE (vartojo laukelyje nurodykite savo PILNĄ VARDĄ IR PAVARDĘ)\nMeeting ID: 391 341 194 772 1\nPasscode: PV7FS32b \nMieli kolegos\,\n \n\n\nKviečiame dalyvauti mokslinėje konferencijoje „Aortos vožtuvo stenozė echokardiografijoje: iššūkiai ir sprendimai“\, kuri vyks 2025 m. spalio 24 d. 14:00 – 18:40 val. „Victoria“ viešbučio konferencijų salėje (S. Šimkaus g. 2\, Klaipėda).\n \n\n\nKonferencija skirta: gydytojams kardiologams ir širdies chirurgams\n\n \n\nKONFERENCIJA VYKS GYVAI VIETOJE IR NUOTOLIU. Elektroniniai kvalifikacijos kėlimo pažymėjimai bus išduodami visiems konferenciją stebėjusiems dalyviams\, kurie išklausė VISĄ mokslinę programą.\nNuorodą su galimybe konferenciją stebėti nuotoliu gausite artėjant renginiui. Jungdamiesi nuotoliu vartotojo varde nurodykite savo pilną VARDĄ IR PAVARDĘ\, kitu atveju sertifikato negausite. Norint stebėti renginį nuotoliu taip pat būtina išankstinė registracija (prisijungus tik renginio dieną be registracijos sertifikato negausite!).\n \n\n\nKonferencija yra nemokama\, tačiau BŪTINA išankstinė registracija (iki spalio 23 dienos 10 val.). Konferencijos dieną registracija nebus vykdoma.\n \n\n\nGerbiami STUDENTAI – konferenciją stebėti galite\, tačiau sertifikatus gaus tik aukščiau nurodyti gydytojai specialistai. Registruotis Jums nereikia.\n \n\n\nRENGINIO PROGRAMA\n  \n\nREGISTRACIJA BAIGĖSI.
URL:https://vlkasociacija.lt/renginys/moksline-konferencija-aortos-voztuvo-stenoze-echokardiografijoje-issukiai-ir-sprendimai/
LOCATION:Viešbutis „Victoria”\, S. Šimkaus g. 2\, Klaipėda\, LT-92128
ATTACH;FMTTYPE=image/png:https://vlkasociacija.lt/wp-content/uploads/2025/09/Paveikslelis4mk.png
END:VEVENT
BEGIN:VEVENT
DTSTART;TZID=UTC:20251029T160000
DTEND;TZID=UTC:20251029T173000
DTSTAMP:20260422T181923
CREATED:20250921T113743Z
LAST-MODIFIED:20251022T172139Z
UID:1511-1761753600-1761759000@vlkasociacija.lt
SUMMARY:Seminaras „Širdies nepakankamumas šeimos gydytojo kasdieninėje praktikoje“
DESCRIPTION:Gerbiami šeimos gydytojai\,\n \n\n\nKviečiame dalyvauti interaktyviame seminare „Širdies nepakankamumas šeimos gydytojo kasdieninėje praktikoje““\, kuris vyks pasirinktinai dvejomis datomis: 2025 m. spalio 16 d. ir spalio 29 d. 16:00 – 17:30 val. MERCURE Klaipėda City viešbutyje\, adresu Šiaulių g. 28\, Klaipėda.\nSeminaro metu būsite suskirstyti į dvi grupes\, kurios pasikeisdamos išklausys abi svarbias seminaro temas.\n\n \n\n\nSeminaras skirtas: šeimos gydytojams (2 val. elektroniniai kvalifikacijos kėlimo pažymėjimai bus išduodami visiems konferenciją stebėjusiems dalyviams).\n\n \n\nSeminaras yra nemokamas\, tačiau BŪTINA išankstinė registracija. Seminaro dieną registracija nebus vykdoma ir bus negalima.\n\n \n\n\nSEMINARO PROGRAMA\n \n\n\nREGISTRACIJA BAIGĖSI.\n\n\n 
URL:https://vlkasociacija.lt/renginys/seminaras-sirdies-nepakankamumas-seimos-gydytojo-kasdienineje-praktikoje-2/
LOCATION:Viešbutis „Mercure Klaipėda City”\, Šaulių g. 28\, Klaipėda
ATTACH;FMTTYPE=image/png:https://vlkasociacija.lt/wp-content/uploads/2025/09/Pav.png
END:VEVENT
END:VCALENDAR