BEGIN:VCALENDAR
VERSION:2.0
PRODID:-//VLKA - ECPv6.15.14//NONSGML v1.0//EN
CALSCALE:GREGORIAN
METHOD:PUBLISH
X-ORIGINAL-URL:https://vlkasociacija.lt
X-WR-CALDESC:VLKA renginiai
REFRESH-INTERVAL;VALUE=DURATION:PT1H
X-Robots-Tag:noindex
X-PUBLISHED-TTL:PT1H
BEGIN:VTIMEZONE
TZID:UTC
BEGIN:STANDARD
TZOFFSETFROM:+0000
TZOFFSETTO:+0000
TZNAME:UTC
DTSTART:20240101T000000
END:STANDARD
END:VTIMEZONE
BEGIN:VEVENT
DTSTART;TZID=UTC:20250130T110000
DTEND;TZID=UTC:20250130T180000
DTSTAMP:20260423T052712
CREATED:20241215T142021Z
LAST-MODIFIED:20250129T094118Z
UID:1302-1738234800-1738260000@vlkasociacija.lt
SUMMARY:Mokslinė konferencija "Išeminės širdies ligos iššūkiai ir aortos ligos"
DESCRIPTION:Mieli kolegos\,\n\n \nKviečiame dalyvauti mokslinėje konferencijoje „Išeminės širdies ligos iššūkiai ir aortos ligos“\, kuri vyks 2025 m. sausio 30 d. 11:00 – 18:00 val. Klaipėdos universiteto Aula Magna konferencijų salėje (PC Studlendas)\, H. Manto g. 90-1\, Klaipėda.\n\n \nRenginys skirtas:\n1) Visų profesinių kvalifikacijų medicinos gydytojams;\n2) Bendrosios praktikos slaugytojoms\, kurios dirba su šeimos gydytojais\, vidaus ligų gydytojais ir gydytojais kardiologais (ši informacija bus nurodyta sertifikate).\n\n \n6 val. kvalifikacijos kėlimo pažymėjimai bus išduodami visiems konferenciją stebėjusiems dalyviams\, kurie išklausė VISĄ mokslinę programą.\n\n \nRenginys yra nemokamas.\n \nRENGINIO PROGRAMA\n \n\n\nREGISTRACIJA INTERNETU BAIGĖSI
URL:https://vlkasociacija.lt/renginys/moksline-konferencija-isemines-sirdies-ligos-issukiai-ir-aortos-ligos/
LOCATION:Studlendas\, H. Manto g. 90-1\, Klaipėda\, 92295\, Lietuva
ATTACH;FMTTYPE=image/png:https://vlkasociacija.lt/wp-content/uploads/2024/12/Ka.png
END:VEVENT
END:VCALENDAR